BEGIN:VCALENDAR
VERSION:2.0
PRODID:-//NSE Emmen - ECPv6.15.20//NONSGML v1.0//EN
CALSCALE:GREGORIAN
METHOD:PUBLISH
X-ORIGINAL-URL:https://www.nse-nijestee.nl
X-WR-CALDESC:Evenementen voor NSE Emmen
REFRESH-INTERVAL;VALUE=DURATION:PT1H
X-Robots-Tag:noindex
X-PUBLISHED-TTL:PT1H
BEGIN:VTIMEZONE
TZID:Europe/Amsterdam
BEGIN:DAYLIGHT
TZOFFSETFROM:+0100
TZOFFSETTO:+0200
TZNAME:CEST
DTSTART:20220327T010000
END:DAYLIGHT
BEGIN:STANDARD
TZOFFSETFROM:+0200
TZOFFSETTO:+0100
TZNAME:CET
DTSTART:20221030T010000
END:STANDARD
BEGIN:DAYLIGHT
TZOFFSETFROM:+0100
TZOFFSETTO:+0200
TZNAME:CEST
DTSTART:20230326T010000
END:DAYLIGHT
BEGIN:STANDARD
TZOFFSETFROM:+0200
TZOFFSETTO:+0100
TZNAME:CET
DTSTART:20231029T010000
END:STANDARD
BEGIN:DAYLIGHT
TZOFFSETFROM:+0100
TZOFFSETTO:+0200
TZNAME:CEST
DTSTART:20240331T010000
END:DAYLIGHT
BEGIN:STANDARD
TZOFFSETFROM:+0200
TZOFFSETTO:+0100
TZNAME:CET
DTSTART:20241027T010000
END:STANDARD
END:VTIMEZONE
BEGIN:VEVENT
DTSTART;TZID=Europe/Amsterdam:20230103T203000
DTEND;TZID=Europe/Amsterdam:20230104T003000
DTSTAMP:20260422T192643
CREATED:20221017T103616Z
LAST-MODIFIED:20230709T183056Z
UID:172-1672777800-1672792200@www.nse-nijestee.nl
SUMMARY:Nieuwjaarsreceptie
DESCRIPTION:met rollegies en kniepertjes
URL:https://www.nse-nijestee.nl/event/nieuwjaarsreceptie/
LOCATION:“Nije Stee Emmen”\, Verlengde Spoorstraat 10B\, Emmen\, Drenthe\, 7811 GA\, Nederland
END:VEVENT
BEGIN:VEVENT
DTSTART;TZID=Europe/Amsterdam:20230105T200000
DTEND;TZID=Europe/Amsterdam:20230106T003000
DTSTAMP:20260422T192643
CREATED:20221017T095258Z
LAST-MODIFIED:20230709T183056Z
UID:109-1672948800-1672965000@www.nse-nijestee.nl
SUMMARY:Kaartavond
DESCRIPTION:
URL:https://www.nse-nijestee.nl/event/kaartavond-nse-2-2-2-2-2/
LOCATION:“Nije Stee Emmen”\, Verlengde Spoorstraat 10B\, Emmen\, Drenthe\, 7811 GA\, Nederland
CATEGORIES:Kaarten
END:VEVENT
BEGIN:VEVENT
DTSTART;TZID=Europe/Amsterdam:20230109T203000
DTEND;TZID=Europe/Amsterdam:20230110T003000
DTSTAMP:20260422T192643
CREATED:20221017T101410Z
LAST-MODIFIED:20230709T183056Z
UID:139-1673296200-1673310600@www.nse-nijestee.nl
SUMMARY:Sjoelen
DESCRIPTION:
URL:https://www.nse-nijestee.nl/event/sjoelen-2-2-2-2-2/
LOCATION:“Nije Stee Emmen”\, Verlengde Spoorstraat 10B\, Emmen\, Drenthe\, 7811 GA\, Nederland
CATEGORIES:Sjoelen
END:VEVENT
BEGIN:VEVENT
DTSTART;TZID=Europe/Amsterdam:20230117T200000
DTEND;TZID=Europe/Amsterdam:20230118T003000
DTSTAMP:20260422T192643
CREATED:20221017T095357Z
LAST-MODIFIED:20230709T183056Z
UID:111-1673985600-1674001800@www.nse-nijestee.nl
SUMMARY:Kaartavond
DESCRIPTION:
URL:https://www.nse-nijestee.nl/event/kaartavond-nse-2-2-2-2-2-2/
LOCATION:“Nije Stee Emmen”\, Verlengde Spoorstraat 10B\, Emmen\, Drenthe\, 7811 GA\, Nederland
CATEGORIES:Kaarten
END:VEVENT
BEGIN:VEVENT
DTSTART;TZID=Europe/Amsterdam:20230123T203000
DTEND;TZID=Europe/Amsterdam:20230124T003000
DTSTAMP:20260422T192643
CREATED:20221017T101513Z
LAST-MODIFIED:20230709T183056Z
UID:141-1674505800-1674520200@www.nse-nijestee.nl
SUMMARY:Sjoelen
DESCRIPTION:
URL:https://www.nse-nijestee.nl/event/sjoelen-2-2-2-2-2-2/
LOCATION:“Nije Stee Emmen”\, Verlengde Spoorstraat 10B\, Emmen\, Drenthe\, 7811 GA\, Nederland
CATEGORIES:Sjoelen
END:VEVENT
BEGIN:VEVENT
DTSTART;TZID=Europe/Amsterdam:20230131T200000
DTEND;TZID=Europe/Amsterdam:20230201T003000
DTSTAMP:20260422T192643
CREATED:20221017T095535Z
LAST-MODIFIED:20230709T183055Z
UID:113-1675195200-1675211400@www.nse-nijestee.nl
SUMMARY:Kaartavond
DESCRIPTION:
URL:https://www.nse-nijestee.nl/event/kaartavond-nse-2-2-2-2-2-2-2/
LOCATION:“Nije Stee Emmen”\, Verlengde Spoorstraat 10B\, Emmen\, Drenthe\, 7811 GA\, Nederland
CATEGORIES:Kaarten
END:VEVENT
END:VCALENDAR